BEGIN:VCALENDAR
VERSION:2.0
PRODID:-//Plone.org//NONSGML plone.app.event//EN
X-WR-TIMEZONE:Europe/Madrid
BEGIN:VEVENT
SUMMARY:Festa de la Mare de Déu de la Misericòrdia
DTSTART;TZID=Europe/Madrid;VALUE=DATE-TIME:20160908T000000
DTEND;TZID=Europe/Madrid;VALUE=DATE-TIME:20160908T010000
DTSTAMP;VALUE=DATE-TIME:20260421T155639Z
UID:a8f9e4efde9febee3856f7dfbd64d29a
CREATED;VALUE=DATE-TIME:20160908T000000Z
LOCATION:esplanada del Santuari
URL:https://www.canetdemar.cat/document.php?id=15078
END:VEVENT
END:VCALENDAR