BEGIN:VCALENDAR
VERSION:2.0
PRODID:-//Plone.org//NONSGML plone.app.event//EN
X-WR-TIMEZONE:Europe/Madrid
BEGIN:VEVENT
SUMMARY:Cursos i tallers a GGespai Caixa
DTSTART;TZID=Europe/Madrid;VALUE=DATE-TIME:20160819T090000
DTEND;TZID=Europe/Madrid;VALUE=DATE-TIME:20160819T100000
DTSTAMP;VALUE=DATE-TIME:20260423T053458Z
UID:23d3cd95da05d5bd810a672a87f32308
CREATED;VALUE=DATE-TIME:20160819T000000Z
LOCATION:carrer Vall 24
ORGANIZER:GGespai Caixa
URL:https://www.canetdemar.cat/document.php?id=15066
END:VEVENT
END:VCALENDAR