BEGIN:VCALENDAR
VERSION:2.0
PRODID:-//Plone.org//NONSGML plone.app.event//EN
X-WR-TIMEZONE:Europe/Madrid
BEGIN:VEVENT
SUMMARY:Ball a l'esplai
DTSTART;TZID=Europe/Madrid;VALUE=DATE-TIME:20160925T180000
DTEND;TZID=Europe/Madrid;VALUE=DATE-TIME:20160925T190000
DTSTAMP;VALUE=DATE-TIME:20260424T175804Z
UID:38cc524feb74191b18188f6d62dfe0b5
CREATED;VALUE=DATE-TIME:20160925T000000Z
ORGANIZER:GGespaiCaixa
URL:https://www.canetdemar.cat/document.php?id=15063
END:VEVENT
END:VCALENDAR