BEGIN:VCALENDAR
VERSION:2.0
PRODID:-//Plone.org//NONSGML plone.app.event//EN
X-WR-TIMEZONE:Europe/Madrid
BEGIN:VEVENT
SUMMARY:Exposició de Xavi Fernández Cruanyes: "Jo, faune"
DTSTART;TZID=Europe/Madrid;VALUE=DATE-TIME:20160813T203000
DTEND;TZID=Europe/Madrid;VALUE=DATE-TIME:20160813T213000
DTSTAMP;VALUE=DATE-TIME:20260424T180730Z
UID:bcad1fba53b5b81eab661664a82fa3f5
CREATED;VALUE=DATE-TIME:20160813T000000Z
LOCATION:Estudi Tenas 1694 - Carrer Bonaire, 7
ORGANIZER:Estudi Tenas 1694
COMMENT:Durada: Fins al 13 de setembre de 2016
URL:https://www.canetdemar.cat/document.php?id=15047
END:VEVENT
END:VCALENDAR