BEGIN:VCALENDAR
VERSION:2.0
PRODID:-//Plone.org//NONSGML plone.app.event//EN
X-WR-TIMEZONE:Europe/Madrid
BEGIN:VEVENT
SUMMARY:Cinema alternatiu: "Deliciosa Martha"
DTSTART;TZID=Europe/Madrid;VALUE=DATE-TIME:20030103T220000
DTEND;TZID=Europe/Madrid;VALUE=DATE-TIME:20030103T230000
DTSTAMP;VALUE=DATE-TIME:20260425T003401Z
UID:72ecdef3c4d0c37dee3d0511d08a3aae
CREATED;VALUE=DATE-TIME:20030103T000000Z
URL:https://www.canetdemar.cat/document.php?id=150
END:VEVENT
END:VCALENDAR