BEGIN:VCALENDAR
VERSION:2.0
PRODID:-//Plone.org//NONSGML plone.app.event//EN
X-WR-TIMEZONE:Europe/Madrid
BEGIN:VEVENT
SUMMARY:Cicle cine per Gaudi(R) a la fresca: Atrapa la Bandera
DTSTART;TZID=Europe/Madrid;VALUE=DATE-TIME:20160819T220000
DTEND;TZID=Europe/Madrid;VALUE=DATE-TIME:20160819T230000
DTSTAMP;VALUE=DATE-TIME:20260423T051020Z
UID:b21a36e372591973018764803616792e
CREATED;VALUE=DATE-TIME:20160819T000000Z
LOCATION:plaça Colomer
ORGANIZER:Associació Cultural Plataforma Odèon - ACPO
URL:https://www.canetdemar.cat/document.php?id=14993
END:VEVENT
END:VCALENDAR