BEGIN:VCALENDAR
VERSION:2.0
PRODID:-//Plone.org//NONSGML plone.app.event//EN
X-WR-TIMEZONE:Europe/Madrid
BEGIN:VEVENT
SUMMARY:Visita de l'autobús d'atenció al consumidor
DTSTART;TZID=Europe/Madrid;VALUE=DATE-TIME:20050420T103000
DTEND;TZID=Europe/Madrid;VALUE=DATE-TIME:20050420T113000
DTSTAMP;VALUE=DATE-TIME:20260422T054146Z
UID:6e98292d94494f3b0d0a19c34f6172b9
CREATED;VALUE=DATE-TIME:20050420T000000Z
URL:https://www.canetdemar.cat/document.php?id=1496
END:VEVENT
END:VCALENDAR