BEGIN:VCALENDAR
VERSION:2.0
PRODID:-//Plone.org//NONSGML plone.app.event//EN
X-WR-TIMEZONE:Europe/Madrid
BEGIN:VEVENT
SUMMARY:Diumenge de ball a la fresca (activitat suspesa)
DTSTART;TZID=Europe/Madrid;VALUE=DATE-TIME:20160717T200000
DTEND;TZID=Europe/Madrid;VALUE=DATE-TIME:20160717T210000
DTSTAMP;VALUE=DATE-TIME:20260423T132351Z
UID:96a55bca5c68639fe599f8789dbfc34c
CREATED;VALUE=DATE-TIME:20160717T000000Z
LOCATION:pati de la casa Roura
ORGANIZER:Amics del ball
URL:https://www.canetdemar.cat/document.php?id=14958
END:VEVENT
END:VCALENDAR