BEGIN:VCALENDAR
VERSION:2.0
PRODID:-//Plone.org//NONSGML plone.app.event//EN
X-WR-TIMEZONE:Europe/Madrid
BEGIN:VEVENT
SUMMARY:9a Fira Mercat Modernista
DTSTART;TZID=Europe/Madrid;VALUE=DATE-TIME:20160917T100000
DTEND;TZID=Europe/Madrid;VALUE=DATE-TIME:20160917T110000
DTSTAMP;VALUE=DATE-TIME:20260424T212216Z
UID:fc1b4cdc840a1488368ea9b6d0ac28fa
CREATED;VALUE=DATE-TIME:20160917T000000Z
ORGANIZER:Àrea de Promoció Econòmica
COMMENT:Durada: Tot el dia
URL:https://www.canetdemar.cat/document.php?id=14913
END:VEVENT
END:VCALENDAR