BEGIN:VCALENDAR
VERSION:2.0
PRODID:-//Plone.org//NONSGML plone.app.event//EN
X-WR-TIMEZONE:Europe/Madrid
BEGIN:VEVENT
SUMMARY:Sardanes
DTSTART;TZID=Europe/Madrid;VALUE=DATE-TIME:20160813T221500
DTEND;TZID=Europe/Madrid;VALUE=DATE-TIME:20160813T231500
DTSTAMP;VALUE=DATE-TIME:20260421T110705Z
UID:f206a23c84126f6e410159540fed472f
CREATED;VALUE=DATE-TIME:20160813T000000Z
LOCATION:riera Sant Domènec
ORGANIZER:Amics de la Sardana
URL:https://www.canetdemar.cat/document.php?id=14904
END:VEVENT
END:VCALENDAR