BEGIN:VCALENDAR
VERSION:2.0
PRODID:-//Plone.org//NONSGML plone.app.event//EN
X-WR-TIMEZONE:Europe/Madrid
BEGIN:VEVENT
SUMMARY:Tallers de les Mares Malabaristes
DTSTART;TZID=Europe/Madrid;VALUE=DATE-TIME:20160701T000000
DTEND;TZID=Europe/Madrid;VALUE=DATE-TIME:20160701T010000
DTSTAMP;VALUE=DATE-TIME:20260424T220157Z
UID:a3ce3b8e61411272c71f2dff069fe98e
CREATED;VALUE=DATE-TIME:20160701T000000Z
ORGANIZER:Associació Mares malabaristes
URL:https://www.canetdemar.cat/document.php?id=14891
END:VEVENT
END:VCALENDAR