BEGIN:VCALENDAR
VERSION:2.0
PRODID:-//Plone.org//NONSGML plone.app.event//EN
X-WR-TIMEZONE:Europe/Madrid
BEGIN:VEVENT
SUMMARY:Fòrum Odèon: "L'objecció fiscal"
DTSTART;TZID=Europe/Madrid;VALUE=DATE-TIME:20050430T190000
DTEND;TZID=Europe/Madrid;VALUE=DATE-TIME:20050430T200000
DTSTAMP;VALUE=DATE-TIME:20260426T063145Z
UID:3a19c4b6f73ce9fec39b03aac74ea727
CREATED;VALUE=DATE-TIME:20050430T000000Z
URL:https://www.canetdemar.cat/document.php?id=1487
END:VEVENT
END:VCALENDAR