BEGIN:VCALENDAR
VERSION:2.0
PRODID:-//Plone.org//NONSGML plone.app.event//EN
X-WR-TIMEZONE:Europe/Madrid
BEGIN:VEVENT
SUMMARY:Casal d'estiu d'anglès Kids&Us
DTSTART;TZID=Europe/Madrid;VALUE=DATE-TIME:20160829T000000
DTEND;TZID=Europe/Madrid;VALUE=DATE-TIME:20160829T010000
DTSTAMP;VALUE=DATE-TIME:20260423T015111Z
UID:cc5fa065b1801457e7e88e2646401a38
CREATED;VALUE=DATE-TIME:20160829T000000Z
ORGANIZER:Kids&Us
COMMENT:Durada: Del 29 d´agost al 2 de setembre i els dies 5-6-7-9 de setembre.
URL:https://www.canetdemar.cat/document.php?id=14868
END:VEVENT
END:VCALENDAR