BEGIN:VCALENDAR
VERSION:2.0
PRODID:-//Plone.org//NONSGML plone.app.event//EN
X-WR-TIMEZONE:Europe/Madrid
BEGIN:VEVENT
SUMMARY:Gran nit de la Sardana
DTSTART;TZID=Europe/Madrid;VALUE=DATE-TIME:20160716T180000
DTEND;TZID=Europe/Madrid;VALUE=DATE-TIME:20160716T190000
DTSTAMP;VALUE=DATE-TIME:20260422T164915Z
UID:bc9f205e599fc952eb53c500c099a8f8
CREATED;VALUE=DATE-TIME:20160716T000000Z
LOCATION:riera Sant Domènec
ORGANIZER:Amics de la Sardana
URL:https://www.canetdemar.cat/document.php?id=14858
END:VEVENT
END:VCALENDAR