BEGIN:VCALENDAR
VERSION:2.0
PRODID:-//Plone.org//NONSGML plone.app.event//EN
X-WR-TIMEZONE:Europe/Madrid
BEGIN:VEVENT
SUMMARY:Correfoc
DTSTART;TZID=Europe/Madrid;VALUE=DATE-TIME:20160709T220000
DTEND;TZID=Europe/Madrid;VALUE=DATE-TIME:20160709T230000
DTSTAMP;VALUE=DATE-TIME:20260423T151719Z
UID:b9700718e67384cbdf589db15c34e711
CREATED;VALUE=DATE-TIME:20160709T000000Z
ORGANIZER:Colla de diables de Canet de Mar
URL:https://www.canetdemar.cat/document.php?id=14854
END:VEVENT
END:VCALENDAR