BEGIN:VCALENDAR
VERSION:2.0
PRODID:-//Plone.org//NONSGML plone.app.event//EN
X-WR-TIMEZONE:Europe/Madrid
BEGIN:VEVENT
SUMMARY:Festa Jove (Barraques)
DTSTART;TZID=Europe/Madrid;VALUE=DATE-TIME:20160625T235000
DTEND;TZID=Europe/Madrid;VALUE=DATE-TIME:20160626T005000
DTSTAMP;VALUE=DATE-TIME:20260424T024155Z
UID:29747e37ab3f6986b3ba1f699224c945
CREATED;VALUE=DATE-TIME:20160625T000000Z
LOCATION:Comissió Festa Jove Barraques, Àrea de Joventut i Àrea de Festes
ORGANIZER:Àrea de Festes
URL:https://www.canetdemar.cat/document.php?id=14831
END:VEVENT
END:VCALENDAR