BEGIN:VCALENDAR
VERSION:2.0
PRODID:-//Plone.org//NONSGML plone.app.event//EN
X-WR-TIMEZONE:Europe/Madrid
BEGIN:VEVENT
SUMMARY:Festa de la proclamació dela Pubilla, l'Hereu, la Pubilleta i l'Hereuet de Canet
DTSTART;TZID=Europe/Madrid;VALUE=DATE-TIME:20160625T210000
DTEND;TZID=Europe/Madrid;VALUE=DATE-TIME:20160625T220000
DTSTAMP;VALUE=DATE-TIME:20260423T214239Z
UID:f46b2ac93a7ec03a1777df86647dc158
CREATED;VALUE=DATE-TIME:20160625T000000Z
LOCATION:plaça Colomer
ORGANIZER:Àrea de Festes
URL:https://www.canetdemar.cat/document.php?id=14830
END:VEVENT
END:VCALENDAR