BEGIN:VCALENDAR
VERSION:2.0
PRODID:-//Plone.org//NONSGML plone.app.event//EN
X-WR-TIMEZONE:Europe/Madrid
BEGIN:VEVENT
SUMMARY:Campionat de Catalunya de Botxes individual
DTSTART;TZID=Europe/Madrid;VALUE=DATE-TIME:20160626T090000
DTEND;TZID=Europe/Madrid;VALUE=DATE-TIME:20160626T100000
DTSTAMP;VALUE=DATE-TIME:20260423T134352Z
UID:1447c8cf3f1057874efadf63f2696022
CREATED;VALUE=DATE-TIME:20160626T000000Z
LOCATION:Club botxes
ORGANIZER:Club botxes Canet M.M.
URL:https://www.canetdemar.cat/document.php?id=14816
END:VEVENT
END:VCALENDAR