BEGIN:VCALENDAR
VERSION:2.0
PRODID:-//Plone.org//NONSGML plone.app.event//EN
X-WR-TIMEZONE:Europe/Madrid
BEGIN:VEVENT
SUMMARY:Casal d'estiu - H2O fitness & club
DTSTART;TZID=Europe/Madrid;VALUE=DATE-TIME:20160627T000000
DTEND;TZID=Europe/Madrid;VALUE=DATE-TIME:20160627T010000
DTSTAMP;VALUE=DATE-TIME:20260421T192223Z
UID:231ab521f6575ec0d1d996fa3b391ada
CREATED;VALUE=DATE-TIME:20160627T000000Z
LOCATION:Piscina municipal - H2O fitness & club - Rial Mas Figuerola 2
ORGANIZER:H2O fitness & club
COMMENT:Durada: del 27 de juny al 9 de setembre (agost no inclòs)
URL:https://www.canetdemar.cat/document.php?id=14801
END:VEVENT
END:VCALENDAR