BEGIN:VCALENDAR
VERSION:2.0
PRODID:-//Plone.org//NONSGML plone.app.event//EN
X-WR-TIMEZONE:Europe/Madrid
BEGIN:VEVENT
SUMMARY:Les 12 campanades
DTSTART;TZID=Europe/Madrid;VALUE=DATE-TIME:20021231T000000
DTEND;TZID=Europe/Madrid;VALUE=DATE-TIME:20021231T010000
DTSTAMP;VALUE=DATE-TIME:20260421T131343Z
UID:6ba0064c600f2e44401d2a3fb68379fb
CREATED;VALUE=DATE-TIME:20021231T000000Z
URL:https://www.canetdemar.cat/document.php?id=148
END:VEVENT
END:VCALENDAR