BEGIN:VCALENDAR
VERSION:2.0
PRODID:-//Plone.org//NONSGML plone.app.event//EN
X-WR-TIMEZONE:Europe/Madrid
BEGIN:VEVENT
SUMMARY:Ruta guiada: Indians(americanos) + cementiri
DTSTART;TZID=Europe/Madrid;VALUE=DATE-TIME:20160616T110000
DTEND;TZID=Europe/Madrid;VALUE=DATE-TIME:20160616T120000
DTSTAMP;VALUE=DATE-TIME:20260424T102144Z
UID:851be2f79f841acb92e7241693486b79
CREATED;VALUE=DATE-TIME:20160616T000000Z
LOCATION:Casa museu Lluís Domènech i Montaner
ORGANIZER:Casa museu Lluís Domènech i Montaner
COMMENT:Preu: 7 euros. Sense reserva prèvia
URL:https://www.canetdemar.cat/document.php?id=14797
END:VEVENT
END:VCALENDAR