BEGIN:VCALENDAR
VERSION:2.0
PRODID:-//Plone.org//NONSGML plone.app.event//EN
X-WR-TIMEZONE:Europe/Madrid
BEGIN:VEVENT
SUMMARY:Exposició: Catifes de ciment, el món de rajoles hidràuliques
DTSTART;TZID=Europe/Madrid;VALUE=DATE-TIME:20160618T200000
DTEND;TZID=Europe/Madrid;VALUE=DATE-TIME:20160618T210000
DTSTAMP;VALUE=DATE-TIME:20260423T234115Z
UID:57b6dc3a27eac31f9f0b1ead12c5de34
CREATED;VALUE=DATE-TIME:20160618T000000Z
LOCATION:Sala jardí de la Casa museu Lluís Domènech i Montaner
ORGANIZER:Casa museu Lluís Domènech i Montaner
COMMENT:Durada: del 18 de juny al 18 de setembre
URL:https://www.canetdemar.cat/document.php?id=14795
END:VEVENT
END:VCALENDAR