BEGIN:VCALENDAR
VERSION:2.0
PRODID:-//Plone.org//NONSGML plone.app.event//EN
X-WR-TIMEZONE:Europe/Madrid
BEGIN:VEVENT
SUMMARY:70's de cine: Mad Max
DTSTART;TZID=Europe/Madrid;VALUE=DATE-TIME:20160617T210000
DTEND;TZID=Europe/Madrid;VALUE=DATE-TIME:20160617T220000
DTSTAMP;VALUE=DATE-TIME:20260421T155437Z
UID:5a2791226599730d90ff0157f2cb616b
CREATED;VALUE=DATE-TIME:20160617T000000Z
LOCATION:Centre Parroquial
ORGANIZER:Associació Cultural Plataforma Odèon - ACPO
URL:https://www.canetdemar.cat/document.php?id=14779
END:VEVENT
END:VCALENDAR