BEGIN:VCALENDAR
VERSION:2.0
PRODID:-//Plone.org//NONSGML plone.app.event//EN
X-WR-TIMEZONE:Europe/Madrid
BEGIN:VEVENT
SUMMARY:Pedalada popular
DTSTART;TZID=Europe/Madrid;VALUE=DATE-TIME:20160612T090000
DTEND;TZID=Europe/Madrid;VALUE=DATE-TIME:20160612T100000
DTSTAMP;VALUE=DATE-TIME:20260423T010942Z
UID:05687183eacd7840a7b56f8eaf68ccd1
CREATED;VALUE=DATE-TIME:20160612T000000Z
LOCATION:Sortida: Vil·la Flora
ORGANIZER:Club ciclista Canet de Mar
URL:https://www.canetdemar.cat/document.php?id=14769
END:VEVENT
END:VCALENDAR