BEGIN:VCALENDAR
VERSION:2.0
PRODID:-//Plone.org//NONSGML plone.app.event//EN
X-WR-TIMEZONE:Europe/Madrid
BEGIN:VEVENT
SUMMARY:Curs: Com aprendre a generar idees de negoci
DTSTART;TZID=Europe/Madrid;VALUE=DATE-TIME:20160602T100000
DTEND;TZID=Europe/Madrid;VALUE=DATE-TIME:20160602T110000
DTSTAMP;VALUE=DATE-TIME:20260419T192359Z
UID:810ef1df61404cdf8b1120092453b18d
CREATED;VALUE=DATE-TIME:20160602T000000Z
LOCATION:Centre Cívic i Cultural Vil·la Flora
ORGANIZER:Àrea de Promoció Econòmica
COMMENT:Preu: gratuït per a empreses i emprenedors
Durada: 2 i 9 de juny de 9.00 a 13.00 hores
URL:https://www.canetdemar.cat/document.php?id=14750
END:VEVENT
END:VCALENDAR