BEGIN:VCALENDAR
VERSION:2.0
PRODID:-//Plone.org//NONSGML plone.app.event//EN
X-WR-TIMEZONE:Europe/Madrid
BEGIN:VEVENT
SUMMARY:Fira d'artesania
DTSTART;TZID=Europe/Madrid;VALUE=DATE-TIME:20160612T100000
DTEND;TZID=Europe/Madrid;VALUE=DATE-TIME:20160612T110000
DTSTAMP;VALUE=DATE-TIME:20260423T011059Z
UID:335efcacba5246f64b530c7c49fcfabf
CREATED;VALUE=DATE-TIME:20160612T000000Z
LOCATION:riera Sant Domènec
ORGANIZER:Àrea de Promoció Econòmica
COMMENT:Durada: 11 de juny de 10.00 a 21.00 hores i 12 de juny de 10.00 a 14.00 hores
URL:https://www.canetdemar.cat/document.php?id=14731
END:VEVENT
END:VCALENDAR