BEGIN:VCALENDAR
VERSION:2.0
PRODID:-//Plone.org//NONSGML plone.app.event//EN
X-WR-TIMEZONE:Europe/Madrid
BEGIN:VEVENT
SUMMARY:Trobada d'intercanvi de plaques de cava
DTSTART;TZID=Europe/Madrid;VALUE=DATE-TIME:20160612T100000
DTEND;TZID=Europe/Madrid;VALUE=DATE-TIME:20160612T110000
DTSTAMP;VALUE=DATE-TIME:20260426T013544Z
UID:36c3e127417b71d52cc465e3564db738
CREATED;VALUE=DATE-TIME:20160612T000000Z
LOCATION:riera Sant Domènec
ORGANIZER:Àrea de Promoció Econòmica
COMMENT:Durada: de 10.00 a 14.00 hores
URL:https://www.canetdemar.cat/document.php?id=14730
END:VEVENT
END:VCALENDAR