BEGIN:VCALENDAR
VERSION:2.0
PRODID:-//Plone.org//NONSGML plone.app.event//EN
X-WR-TIMEZONE:Europe/Madrid
BEGIN:VEVENT
SUMMARY:Missatge de cap d'any de l'alcalde
DTSTART;TZID=Europe/Madrid;VALUE=DATE-TIME:20021231T120000
DTEND;TZID=Europe/Madrid;VALUE=DATE-TIME:20021231T130000
DTSTAMP;VALUE=DATE-TIME:20260423T082719Z
UID:7b15f8c651bedbff0dfeaeeaf3026efe
CREATED;VALUE=DATE-TIME:20021231T000000Z
URL:https://www.canetdemar.cat/document.php?id=147
END:VEVENT
END:VCALENDAR