BEGIN:VCALENDAR
VERSION:2.0
PRODID:-//Plone.org//NONSGML plone.app.event//EN
X-WR-TIMEZONE:Europe/Madrid
BEGIN:VEVENT
SUMMARY:Ruta guiada: El modernisme industrial i religiòs
DTSTART;TZID=Europe/Madrid;VALUE=DATE-TIME:20160625T110000
DTEND;TZID=Europe/Madrid;VALUE=DATE-TIME:20160625T120000
DTSTAMP;VALUE=DATE-TIME:20260424T040933Z
UID:0e9814bddb9c65e13a5f12cb87576aba
CREATED;VALUE=DATE-TIME:20160625T000000Z
LOCATION:Casa museu Lluís Domènech i Montaner
ORGANIZER:Casa museu Lluís Domènech i Montaner
URL:https://www.canetdemar.cat/document.php?id=14683
END:VEVENT
END:VCALENDAR