BEGIN:VCALENDAR
VERSION:2.0
PRODID:-//Plone.org//NONSGML plone.app.event//EN
X-WR-TIMEZONE:Europe/Madrid
BEGIN:VEVENT
SUMMARY:Festa de trons
DTSTART;TZID=Europe/Madrid;VALUE=DATE-TIME:20160501T100000
DTEND;TZID=Europe/Madrid;VALUE=DATE-TIME:20160501T110000
DTSTAMP;VALUE=DATE-TIME:20260423T235628Z
UID:a7cd467a3586215ba94494e85eae4071
CREATED;VALUE=DATE-TIME:20160501T000000Z
LOCATION:riera Sant Domènec
ORGANIZER:Àrea de Promoció Econòmica
COMMENT:Durada: El dissabte 30 d'abril i diumenge 1 de maig de 10.00 a 22.00 hores
URL:https://www.canetdemar.cat/document.php?id=14681
END:VEVENT
END:VCALENDAR