BEGIN:VCALENDAR
VERSION:2.0
PRODID:-//Plone.org//NONSGML plone.app.event//EN
X-WR-TIMEZONE:Europe/Madrid
BEGIN:VEVENT
SUMMARY:En Bum i el tresor del pirata amb la Companyia Homenots
DTSTART;TZID=Europe/Madrid;VALUE=DATE-TIME:20160604T120000
DTEND;TZID=Europe/Madrid;VALUE=DATE-TIME:20160604T130000
DTSTAMP;VALUE=DATE-TIME:20260423T190919Z
UID:c56919c9c20590e4b0fc6882fde7ed81
CREATED;VALUE=DATE-TIME:20160604T000000Z
CATEGORIES:Infantils
LOCATION:Biblioteca P. Gual i Pujadas
ORGANIZER:Biblioteca P. Gual i Pujadas
URL:https://www.canetdemar.cat/document.php?id=14678
END:VEVENT
END:VCALENDAR