BEGIN:VCALENDAR
VERSION:2.0
PRODID:-//Plone.org//NONSGML plone.app.event//EN
X-WR-TIMEZONE:Europe/Madrid
BEGIN:VEVENT
SUMMARY:Vine al teatre: Victòria
DTSTART;TZID=Europe/Madrid;VALUE=DATE-TIME:20160525T183000
DTEND;TZID=Europe/Madrid;VALUE=DATE-TIME:20160525T193000
DTSTAMP;VALUE=DATE-TIME:20260423T151320Z
UID:fc73ba13e6b417c2757941ab8175aee8
CREATED;VALUE=DATE-TIME:20160525T000000Z
LOCATION:Parada bus Comediants
ORGANIZER:Àrea de Cultura
URL:https://www.canetdemar.cat/document.php?id=14672
END:VEVENT
END:VCALENDAR