BEGIN:VCALENDAR
VERSION:2.0
PRODID:-//Plone.org//NONSGML plone.app.event//EN
X-WR-TIMEZONE:Europe/Madrid
BEGIN:VEVENT
SUMMARY:Conte contes dels superherois de la sang
DTSTART;TZID=Europe/Madrid;VALUE=DATE-TIME:20160430T120000
DTEND;TZID=Europe/Madrid;VALUE=DATE-TIME:20160430T130000
DTSTAMP;VALUE=DATE-TIME:20260424T053629Z
UID:8646122a0f11279e86a2098bd8be4e1e
CREATED;VALUE=DATE-TIME:20160430T000000Z
CATEGORIES:Infantils
LOCATION:Biblioteca P. Gual i Pujadas
ORGANIZER:Banc de sang i teixits
COMMENT:Preu: Gratuït
URL:https://www.canetdemar.cat/document.php?id=14669
END:VEVENT
END:VCALENDAR