BEGIN:VCALENDAR
VERSION:2.0
PRODID:-//Plone.org//NONSGML plone.app.event//EN
X-WR-TIMEZONE:Europe/Madrid
BEGIN:VEVENT
SUMMARY:70´s de cine: Encuentros en la tercera Fase
DTSTART;TZID=Europe/Madrid;VALUE=DATE-TIME:20160527T210000
DTEND;TZID=Europe/Madrid;VALUE=DATE-TIME:20160527T220000
DTSTAMP;VALUE=DATE-TIME:20260423T133418Z
UID:a85a407ee72f614a09fa4ed8189cb07f
CREATED;VALUE=DATE-TIME:20160527T000000Z
LOCATION:Centre Parroquial
ORGANIZER:Associació Cultural Plataforma Odèon - ACPO
URL:https://www.canetdemar.cat/document.php?id=14633
END:VEVENT
END:VCALENDAR