BEGIN:VCALENDAR
VERSION:2.0
PRODID:-//Plone.org//NONSGML plone.app.event//EN
X-WR-TIMEZONE:Europe/Madrid
BEGIN:VEVENT
SUMMARY:Ruta guiada: Indians (Americanos) + cementiri
DTSTART;TZID=Europe/Madrid;VALUE=DATE-TIME:20160514T110000
DTEND;TZID=Europe/Madrid;VALUE=DATE-TIME:20160514T120000
DTSTAMP;VALUE=DATE-TIME:20260424T212247Z
UID:0e4cc50b4c2e41974e94922c3772bff8
CREATED;VALUE=DATE-TIME:20160514T000000Z
LOCATION:Casa museu Lluís Domènech i Montaner
ORGANIZER:Casa museu Lluís Domènech i Montaner
COMMENT:Preu: 7 euros/ sense reserva prèvia
URL:https://www.canetdemar.cat/document.php?id=14628
END:VEVENT
END:VCALENDAR