BEGIN:VCALENDAR
VERSION:2.0
PRODID:-//Plone.org//NONSGML plone.app.event//EN
X-WR-TIMEZONE:Europe/Madrid
BEGIN:VEVENT
SUMMARY:Teatre: Me quedé sin blanca
DTSTART;TZID=Europe/Madrid;VALUE=DATE-TIME:20160508T181500
DTEND;TZID=Europe/Madrid;VALUE=DATE-TIME:20160508T191500
DTSTAMP;VALUE=DATE-TIME:20260423T102320Z
UID:c83debdf3629a9e9af6ae10e53fd2cc1
CREATED;VALUE=DATE-TIME:20160508T000000Z
CATEGORIES:Teatre
LOCATION:Centre Parroquial (El Centru) C/Eusebi Golart, 16
ORGANIZER:Centre Parroquial
COMMENT:Preu: 6 euros/socis, 7 euros/no socis
DESCRIPTION:Les Melies teatre de Pineda
URL:https://www.canetdemar.cat/document.php?id=14610
END:VEVENT
END:VCALENDAR