BEGIN:VCALENDAR
VERSION:2.0
PRODID:-//Plone.org//NONSGML plone.app.event//EN
X-WR-TIMEZONE:Europe/Madrid
BEGIN:VEVENT
SUMMARY:Diumenge de ball
DTSTART;TZID=Europe/Madrid;VALUE=DATE-TIME:20160515T190000
DTEND;TZID=Europe/Madrid;VALUE=DATE-TIME:20160515T200000
DTSTAMP;VALUE=DATE-TIME:20260423T172946Z
UID:f57487333e291d86620125b1a05cccae
CREATED;VALUE=DATE-TIME:20160515T000000Z
LOCATION:Envelat de Vil·la Flora
ORGANIZER:Amcis del ball
URL:https://www.canetdemar.cat/document.php?id=14603
END:VEVENT
END:VCALENDAR