BEGIN:VCALENDAR
VERSION:2.0
PRODID:-//Plone.org//NONSGML plone.app.event//EN
X-WR-TIMEZONE:Europe/Madrid
BEGIN:VEVENT
SUMMARY:Pastorets: L'Estel de Natzaret
DTSTART;TZID=Europe/Madrid;VALUE=DATE-TIME:20021229T180000
DTEND;TZID=Europe/Madrid;VALUE=DATE-TIME:20021229T190000
DTSTAMP;VALUE=DATE-TIME:20260423T150535Z
UID:9893bb4be20869aeccf99ff57a7ef34a
CREATED;VALUE=DATE-TIME:20021229T000000Z
URL:https://www.canetdemar.cat/document.php?id=146
END:VEVENT
END:VCALENDAR