BEGIN:VCALENDAR
VERSION:2.0
PRODID:-//Plone.org//NONSGML plone.app.event//EN
X-WR-TIMEZONE:Europe/Madrid
BEGIN:VEVENT
SUMMARY:Presentació del llibre: El cascabel d'Alicia Lakatos Alonso (activitat suspesa)
DTSTART;TZID=Europe/Madrid;VALUE=DATE-TIME:20160513T190000
DTEND;TZID=Europe/Madrid;VALUE=DATE-TIME:20160513T200000
DTSTAMP;VALUE=DATE-TIME:20260425T060501Z
UID:3cb2d9d2ab79d5c80c09fd40146520eb
CREATED;VALUE=DATE-TIME:20160513T000000Z
CATEGORIES:Literatura
LOCATION:Planta baixa de la Biblioteca P. Gual i Pujadas
URL:https://www.canetdemar.cat/document.php?id=14598
END:VEVENT
END:VCALENDAR