BEGIN:VCALENDAR
VERSION:2.0
PRODID:-//Plone.org//NONSGML plone.app.event//EN
X-WR-TIMEZONE:Europe/Madrid
BEGIN:VEVENT
SUMMARY:Xerrada: Frederic Mistral, el pare de totes les Mireies a càrrec de l´historiador Jaume Vellvehí i Altimira
DTSTART;TZID=Europe/Madrid;VALUE=DATE-TIME:20160923T193000
DTEND;TZID=Europe/Madrid;VALUE=DATE-TIME:20160923T203000
DTSTAMP;VALUE=DATE-TIME:20260421T160009Z
UID:ef0b47e0f4ab9a9b7ff69ee1ab2d7f0e
CREATED;VALUE=DATE-TIME:20160923T000000Z
CATEGORIES:Literatura
LOCATION:Sala d'audiovisuals del Pavelló Municipal d´Esports (carrer Catalunya, s/n)
ORGANIZER:Plataforma per la Llengua Canet de Mar
COMMENT:Preu: Gratuït
DESCRIPTION:Activitat del Correllengua 2016
URL:https://www.canetdemar.cat/document.php?id=14592
END:VEVENT
END:VCALENDAR