BEGIN:VCALENDAR
VERSION:2.0
PRODID:-//Plone.org//NONSGML plone.app.event//EN
X-WR-TIMEZONE:Europe/Madrid
BEGIN:VEVENT
SUMMARY:C. B. Canet  - Casal d'estiu
DTSTART;TZID=Europe/Madrid;VALUE=DATE-TIME:20160627T000000
DTEND;TZID=Europe/Madrid;VALUE=DATE-TIME:20160627T010000
DTSTAMP;VALUE=DATE-TIME:20260422T183558Z
UID:fb6945d46b829678129707f271b90e6b
CREATED;VALUE=DATE-TIME:20160627T000000Z
LOCATION:Pavelló d'esports
ORGANIZER:Club Bàsquet Canet
URL:https://www.canetdemar.cat/document.php?id=14588
END:VEVENT
END:VCALENDAR