BEGIN:VCALENDAR
VERSION:2.0
PRODID:-//Plone.org//NONSGML plone.app.event//EN
X-WR-TIMEZONE:Europe/Madrid
BEGIN:VEVENT
SUMMARY:Vine a fer l'indi
DTSTART;TZID=Europe/Madrid;VALUE=DATE-TIME:20160507T170000
DTEND;TZID=Europe/Madrid;VALUE=DATE-TIME:20160507T180000
DTSTAMP;VALUE=DATE-TIME:20260424T171350Z
UID:d9e1cce54ced0c12c1799dc413e97d88
CREATED;VALUE=DATE-TIME:20160507T000000Z
LOCATION:Envelat de Vil·la Flora
ORGANIZER:GEA XXI
URL:https://www.canetdemar.cat/document.php?id=14555
END:VEVENT
END:VCALENDAR