BEGIN:VCALENDAR
VERSION:2.0
PRODID:-//Plone.org//NONSGML plone.app.event//EN
X-WR-TIMEZONE:Europe/Madrid
BEGIN:VEVENT
SUMMARY:Exposició: Eugeni Forcano i la moda dels 60
DTSTART;TZID=Europe/Madrid;VALUE=DATE-TIME:20160423T193000
DTEND;TZID=Europe/Madrid;VALUE=DATE-TIME:20160423T203000
DTSTAMP;VALUE=DATE-TIME:20260423T071241Z
UID:7323d3b68f852ee1030a33a4d8642c20
CREATED;VALUE=DATE-TIME:20160423T000000Z
LOCATION:carrer Indústria 5
ORGANIZER:Àrea de Cultura
COMMENT:Durada: del 23 d'abril al 29 de maig de 2016
URL:https://www.canetdemar.cat/document.php?id=14505
END:VEVENT
END:VCALENDAR