BEGIN:VCALENDAR
VERSION:2.0
PRODID:-//Plone.org//NONSGML plone.app.event//EN
X-WR-TIMEZONE:Europe/Madrid
BEGIN:VEVENT
SUMMARY:Exposició: El saló dels rebutjats
DTSTART;TZID=Europe/Madrid;VALUE=DATE-TIME:20160322T160000
DTEND;TZID=Europe/Madrid;VALUE=DATE-TIME:20160322T170000
DTSTAMP;VALUE=DATE-TIME:20260422T164358Z
UID:4f58a6b97502950af2ba66f998664350
CREATED;VALUE=DATE-TIME:20160322T000000Z
LOCATION:Sala Cultural Ramon de Capmany
COMMENT:Durada: del 22 al 28 de març de 2016
URL:https://www.canetdemar.cat/document.php?id=14487
END:VEVENT
END:VCALENDAR