BEGIN:VCALENDAR
VERSION:2.0
PRODID:-//Plone.org//NONSGML plone.app.event//EN
X-WR-TIMEZONE:Europe/Madrid
BEGIN:VEVENT
SUMMARY:Matinal de coneixement de l´entorn: Passejada pel torrent, la masia i la font de Can Torrus
DTSTART;TZID=Europe/Madrid;VALUE=DATE-TIME:20160501T110000
DTEND;TZID=Europe/Madrid;VALUE=DATE-TIME:20160501T120000
DTSTAMP;VALUE=DATE-TIME:20260422T130008Z
UID:b04b210c286cedcec6529097623e286e
CREATED;VALUE=DATE-TIME:20160501T000000Z
LOCATION:Mirador de la Creu
ORGANIZER:Fot-li Castanya - ACPO
DESCRIPTION:dins els actes de l´Aplec de Pedracastell
URL:https://www.canetdemar.cat/document.php?id=14480
END:VEVENT
END:VCALENDAR