BEGIN:VCALENDAR
VERSION:2.0
PRODID:-//Plone.org//NONSGML plone.app.event//EN
X-WR-TIMEZONE:Europe/Madrid
BEGIN:VEVENT
SUMMARY:El conte viatger de la Biblioteca
DTSTART;TZID=Europe/Madrid;VALUE=DATE-TIME:20050329T000000
DTEND;TZID=Europe/Madrid;VALUE=DATE-TIME:20050329T010000
DTSTAMP;VALUE=DATE-TIME:20260422T164259Z
UID:2172252c596327ec7e2cdd7878a0e2e6
CREATED;VALUE=DATE-TIME:20050329T000000Z
URL:https://www.canetdemar.cat/document.php?id=1447
END:VEVENT
END:VCALENDAR