BEGIN:VCALENDAR
VERSION:2.0
PRODID:-//Plone.org//NONSGML plone.app.event//EN
X-WR-TIMEZONE:Europe/Madrid
BEGIN:VEVENT
SUMMARY:Vermutsicals
DTSTART;TZID=Europe/Madrid;VALUE=DATE-TIME:20160410T123000
DTEND;TZID=Europe/Madrid;VALUE=DATE-TIME:20160410T133000
DTSTAMP;VALUE=DATE-TIME:20260423T134803Z
UID:ec2e46b15e77b8967f1619e8edaf497e
CREATED;VALUE=DATE-TIME:20160410T000000Z
LOCATION:plaça Colomer
ORGANIZER:Associació Cultural Plataforma Odèon
URL:https://www.canetdemar.cat/document.php?id=14466
END:VEVENT
END:VCALENDAR