BEGIN:VCALENDAR
VERSION:2.0
PRODID:-//Plone.org//NONSGML plone.app.event//EN
X-WR-TIMEZONE:Europe/Madrid
BEGIN:VEVENT
SUMMARY:Rèquiem de Mozart
DTSTART;TZID=Europe/Madrid;VALUE=DATE-TIME:20160326T190000
DTEND;TZID=Europe/Madrid;VALUE=DATE-TIME:20160326T200000
DTSTAMP;VALUE=DATE-TIME:20260424T144537Z
UID:027fba8e1e132b5d046edef7bb9fbc20
CREATED;VALUE=DATE-TIME:20160326T000000Z
CATEGORIES:Cinema,Música
LOCATION:Centre Parroquial de Canet
ORGANIZER:Càritas de Canet de Mar
COMMENT:Preu: recaptació voluntària destinada a Càritas Síria
Durada: 1 hora 30 minuts
DESCRIPTION:concert grabat al Palau de la Música Catalana
URL:https://www.canetdemar.cat/document.php?id=14459
END:VEVENT
END:VCALENDAR