BEGIN:VCALENDAR
VERSION:2.0
PRODID:-//Plone.org//NONSGML plone.app.event//EN
X-WR-TIMEZONE:Europe/Madrid
BEGIN:VEVENT
SUMMARY:Un mar d'Estil
DTSTART;TZID=Europe/Madrid;VALUE=DATE-TIME:20160327T100000
DTEND;TZID=Europe/Madrid;VALUE=DATE-TIME:20160327T110000
DTSTAMP;VALUE=DATE-TIME:20260421T224243Z
UID:21106f9f6d5f9bf13c504e025172aab1
CREATED;VALUE=DATE-TIME:20160327T000000Z
LOCATION:riera Sant Domènec
COMMENT:Durada: de 10.00 a 20.00 hores
URL:https://www.canetdemar.cat/document.php?id=14445
END:VEVENT
END:VCALENDAR