BEGIN:VCALENDAR
VERSION:2.0
PRODID:-//Plone.org//NONSGML plone.app.event//EN
X-WR-TIMEZONE:Europe/Madrid
BEGIN:VEVENT
SUMMARY:Dream Market
DTSTART;TZID=Europe/Madrid;VALUE=DATE-TIME:20160514T000000
DTEND;TZID=Europe/Madrid;VALUE=DATE-TIME:20160514T010000
DTSTAMP;VALUE=DATE-TIME:20260423T234307Z
UID:17f067bbf083a6edf585ad47875c635a
CREATED;VALUE=DATE-TIME:20160514T000000Z
LOCATION:riera Sant Domènec
ORGANIZER:Àrea de Promoció Econòmica
COMMENT:Durada: 14, 15 i 16*(*migdia)
URL:https://www.canetdemar.cat/document.php?id=14440
END:VEVENT
END:VCALENDAR